BEGIN:VCALENDAR
VERSION:2.0
PRODID:-//Tukios.com/
BEGIN:VEVENT
UID:f0e9e874-7376-4ebb-94df-fd38d99ef4b7@www.duncanfh.com
DTSTAMP:20260421T191401Z
DTSTART:20260425T160000Z
DTEND:20260425T170000Z
SUMMARY:Celebration of Life
DESCRIPTION:
URL:https://www.duncanfh.com/obituaries/loraine-butler
LOCATION:Eastside Church of God In Christ 9881 US HWY 190 E.  Point Blank 
	TX 77364
GEO:30.7675755;-95.1814999
END:VEVENT
END:VCALENDAR